BEGIN:VCALENDAR
VERSION:2.0
PRODID:-//Emily Magli - ECPv6.15.20//NONSGML v1.0//EN
CALSCALE:GREGORIAN
METHOD:PUBLISH
X-ORIGINAL-URL:https://www.emilymagli.com
X-WR-CALDESC:Events for Emily Magli
REFRESH-INTERVAL;VALUE=DURATION:PT1H
X-Robots-Tag:noindex
X-PUBLISHED-TTL:PT1H
BEGIN:VTIMEZONE
TZID:America/Chicago
BEGIN:DAYLIGHT
TZOFFSETFROM:-0600
TZOFFSETTO:-0500
TZNAME:CDT
DTSTART:20190310T080000
END:DAYLIGHT
BEGIN:STANDARD
TZOFFSETFROM:-0500
TZOFFSETTO:-0600
TZNAME:CST
DTSTART:20191103T070000
END:STANDARD
BEGIN:DAYLIGHT
TZOFFSETFROM:-0600
TZOFFSETTO:-0500
TZNAME:CDT
DTSTART:20200308T080000
END:DAYLIGHT
BEGIN:STANDARD
TZOFFSETFROM:-0500
TZOFFSETTO:-0600
TZNAME:CST
DTSTART:20201101T070000
END:STANDARD
BEGIN:DAYLIGHT
TZOFFSETFROM:-0600
TZOFFSETTO:-0500
TZNAME:CDT
DTSTART:20210314T080000
END:DAYLIGHT
BEGIN:STANDARD
TZOFFSETFROM:-0500
TZOFFSETTO:-0600
TZNAME:CST
DTSTART:20211107T070000
END:STANDARD
END:VTIMEZONE
BEGIN:VEVENT
DTSTART;TZID=America/Chicago:20200923T110000
DTEND;TZID=America/Chicago:20200923T123000
DTSTAMP:20260425T073545
CREATED:20200827T113658Z
LAST-MODIFIED:20200827T113658Z
UID:1540-1600858800-1600864200@www.emilymagli.com
SUMMARY:Sit and Sew
DESCRIPTION:
URL:https://www.emilymagli.com/event/sit-and-sew-10/
LOCATION:Textile Fabric Store\, 471 Craighead Street\, Nashville\, 37204\, United States
END:VEVENT
BEGIN:VEVENT
DTSTART;TZID=America/Chicago:20200916T110000
DTEND;TZID=America/Chicago:20200916T123000
DTSTAMP:20260425T073545
CREATED:20200827T113604Z
LAST-MODIFIED:20200827T113604Z
UID:1538-1600254000-1600259400@www.emilymagli.com
SUMMARY:Sit and Sew
DESCRIPTION:
URL:https://www.emilymagli.com/event/sit-and-sew-9/
LOCATION:Textile Fabric Store\, 471 Craighead Street\, Nashville\, 37204\, United States
END:VEVENT
BEGIN:VEVENT
DTSTART;TZID=America/Chicago:20200912T110000
DTEND;TZID=America/Chicago:20200912T123000
DTSTAMP:20260425T073545
CREATED:20200707T131211Z
LAST-MODIFIED:20200707T131211Z
UID:1394-1599908400-1599913800@www.emilymagli.com
SUMMARY:Sit and Sew
DESCRIPTION:Bring any sewing project you may have and get advice and instruction to help you finish it. Social distancing\, and masks required. Limited to 5 students and must pre-register. Student must bring supplies and sewing machine. Instructor unable to do personal fittings at this time\, but can help student identify and find ways to resolve fit issues. All sewing levels welcome! Payment due upon arrival – cash\, check\, PayPal and Venmo accepted.
URL:https://www.emilymagli.com/event/sit-and-sew-6/
LOCATION:Textile Fabric Store\, 471 Craighead Street\, Nashville\, 37204\, United States
END:VEVENT
BEGIN:VEVENT
DTSTART;TZID=America/Chicago:20200822T140000
DTEND;TZID=America/Chicago:20200822T153000
DTSTAMP:20260425T073545
CREATED:20200525T223008Z
LAST-MODIFIED:20200525T223008Z
UID:1335-1598104800-1598110200@www.emilymagli.com
SUMMARY:Sleeve Drafting
DESCRIPTION:Students will learn how to draft a sleeve using their own personal measurements. Bring tracing paper\, pencil and ruler.
URL:https://www.emilymagli.com/event/sleeve-drafting/
LOCATION:Textile Fabric Store\, 471 Craighead Street\, Nashville\, 37204\, United States
END:VEVENT
BEGIN:VEVENT
DTSTART;TZID=America/Chicago:20200815T110000
DTEND;TZID=America/Chicago:20200815T123000
DTSTAMP:20260425T073545
CREATED:20200526T223625Z
LAST-MODIFIED:20200526T223625Z
UID:1349-1597489200-1597494600@www.emilymagli.com
SUMMARY:Sit and Sew
DESCRIPTION:Bring any sewing project you may have and get advice and instruction to help you finish it. Social distancing\, and masks required. Limited to 5 students and must pre-register. Student must bring supplies and sewing machine. Instructor unable to do personal fittings at this time\, but can help student identify and find ways to resolve fit issues. All sewing levels welcome! Payment due upon arrival – cash\, check\, PayPal and Venmo accepted.
URL:https://www.emilymagli.com/event/sit-and-sew-5/
END:VEVENT
BEGIN:VEVENT
DTSTART;TZID=America/Chicago:20200808T140000
DTEND;TZID=America/Chicago:20200808T153000
DTSTAMP:20260425T073545
CREATED:20200525T222724Z
LAST-MODIFIED:20200525T222724Z
UID:1333-1596895200-1596900600@www.emilymagli.com
SUMMARY:Taking measurements
DESCRIPTION:Instructor will demonstrate for students\, and students will take self measurements.  Students will take home a completed full body measurement worksheet. This worksheet will be great reference for students when analyzing industry patterns and/or drafting a pattern themselves. Bring a measuring tape and pencil.
URL:https://www.emilymagli.com/event/taking-measurements/
LOCATION:Textile Fabric Store\, 471 Craighead Street\, Nashville\, 37204\, United States
END:VEVENT
BEGIN:VEVENT
DTSTART;TZID=America/Chicago:20200808T100000
DTEND;TZID=America/Chicago:20200808T110000
DTSTAMP:20260425T073545
CREATED:20200526T225601Z
LAST-MODIFIED:20200526T225601Z
UID:1356-1596880800-1596884400@www.emilymagli.com
SUMMARY:Zoom Sit and Share
DESCRIPTION:Join us for online video conferencing at 10:00am. We have lively discussion about all things sewing and fashion. Email emily@magli.com to be added to the list.
URL:https://www.emilymagli.com/event/zoom-sit-and-share-4/
END:VEVENT
BEGIN:VEVENT
DTSTART;TZID=America/Chicago:20200801T110000
DTEND;TZID=America/Chicago:20200801T123000
DTSTAMP:20260425T073545
CREATED:20200526T223515Z
LAST-MODIFIED:20200526T223515Z
UID:1347-1596279600-1596285000@www.emilymagli.com
SUMMARY:Sit and Sew
DESCRIPTION:Bring any sewing project you may have and get advice and instruction to help you finish it. Social distancing\, and masks required. Limited to 5 students and must pre-register. Student must bring supplies and sewing machine. Instructor unable to do personal fittings at this time\, but can help student identify and find ways to resolve fit issues. All sewing levels welcome! Payment due upon arrival – cash\, check\, PayPal and Venmo accepted.
URL:https://www.emilymagli.com/event/sit-and-sew-4/
LOCATION:Textile Fabric Store\, 471 Craighead Street\, Nashville\, 37204\, United States
END:VEVENT
END:VCALENDAR